BEGIN:VCALENDAR
VERSION:2.0
PRODID:-//wp-events-plugin.com//7.2.3.1//EN
TZID:Europe/Berlin
X-WR-TIMEZONE:Europe/Berlin
BEGIN:VEVENT
UID:2@spd-berlinermitte.de
DTSTART:20170520T093000Z
DTEND:20170520T193000Z
DTSTAMP:20170504T130519Z
URL:https://spd-berlinermitte.de/Termine/landesvertreterversammlung-landes
 parteitag/
SUMMARY:Landesvertreterversammlung / Landesparteitag
DESCRIPTION:\n\nAm 20. Mai 2017 findet die Landesvertreterversammlung der B
 erliner SPD zur Aufstellung der Landesliste für die Bundestagswahlen am 2
 4. September 2017 statt.\n\n\n\n\nZuvor wählen die Wahlkreiskonferenzen i
 n den jeweiligen Kreisverbänden/bzw. Wahlkreisen ihre Direktkandiaten und
  nominieren Kandidatinnen und Kandidaten für die Landesliste.\n\nIm Ansch
 luss findet der regulär stattfindende Landesparteitag der Berliner SPD st
 att. Infos unter: www.parteitag.spd-berlin.de\n\n
LOCATION:Estrel Convention Center\, Sonnenallee 225\, Berlin\, Deutschland
X-APPLE-STRUCTURED-LOCATION;VALUE=URI;X-ADDRESS=Sonnenallee 225\, Berlin\, 
 Deutschland;X-APPLE-RADIUS=100;X-TITLE=Estrel Convention Center:geo:0,0
END:VEVENT
BEGIN:VEVENT
UID:8@spd-berlinermitte.de
DTSTART:20170914T090000Z
DTEND:20170914T193000Z
DTSTAMP:20170524T095925Z
URL:https://spd-berlinermitte.de/Termine/plenarsitzung-3/
SUMMARY:Plenarsitzung
DESCRIPTION:Am 14. September 2017 findet die Plenarsitzung des Berliner Abg
 eordnetenhauses statt. Nähere Infos unter: http://www.parlament-berlin.de
 /de/Das-Parlament/Plenum
LOCATION:Abgeordnetenhaus von Berlin\, Niederkirchnerstraße 5\, 10117 Berl
 in\, Deutschland
X-APPLE-STRUCTURED-LOCATION;VALUE=URI;X-ADDRESS=Niederkirchnerstraße 5\, 1
 0117 Berlin\, Deutschland;X-APPLE-RADIUS=100;X-TITLE=Abgeordnetenhaus von 
 Berlin:geo:0,0
END:VEVENT
BEGIN:VEVENT
UID:9@spd-berlinermitte.de
DTSTART:20170924T080000Z
DTEND:20170924T180000Z
DTSTAMP:20170524T091554Z
URL:https://spd-berlinermitte.de/Termine/bundestagswahlen-und-volksentsche
 id/
SUMMARY:Bundestagswahlen und Volksentscheid
DESCRIPTION:Am 24. September 2017 finden die Wahlen zum Deutshen Bundestag 
 - und in Berlin - der Volksentscheid zur dauerhaften Offenhaltung und Weit
 erbetrieb des Flughafen Tegels statt.\n\nInfos unter: www.wahlen-berlin.de
END:VEVENT
BEGIN:VEVENT
UID:10@spd-berlinermitte.de
DTSTART:20180119T120000Z
DTEND:20180121T160000Z
DTSTAMP:20180108T122804Z
URL:https://spd-berlinermitte.de/Termine/spd-fraktionsklausur/
SUMMARY:SPD Fraktionsklausur
DESCRIPTION:Vom 19.1.- 21.1.2017 findet die Klausurtagung der SPD-Fraktion 
 Berlin diesmal in Hamburg statt. Presse ist eingeladen. Weitere Informatio
 nen: www.spdfraktion-berlin.de
END:VEVENT
BEGIN:VEVENT
UID:12@spd-berlinermitte.de
DTSTART:20180601T180000Z
DTEND:20180602T220000Z
DTSTAMP:20180425T073254Z
URL:https://spd-berlinermitte.de/Termine/landesparteitag-1-und-2-juni-2018
 /
SUMMARY:Landesparteitag 1. und 2. Juni 2018
DESCRIPTION:\nParteitagstermin/-ort\n01. und 02. Juni 2018 im\n Andel’s B
 erlin\, Landsberger Allee 106\, 10369 Berlin\n (Ringbahn S41/S42 Landsberg
 er Allee)\nNominierung der Kandidat*innen für das Europäische Parlament\
 nBitte sendet uns die Vorschläge für die Nominierungen der Kandidat*inne
 n für das Europäische Parlament bis zum 07. Mai 2018 an landesparteitag.
 berlin@spd.de.\n\nDie vorgeschlagenen Genoss*innen werden um eine schriftl
 iche Kurz-Vorstellung (max. 2 A4-Seiten) gebeten. Zusätzlich zur Kandidat
 envorstellung auf dem Landesparteitag\, wollen wir die Kandidierenden in e
 iner kleinen Broschüre dem Landesparteitag präsentieren.\nNominierungen 
 Landesvorstand / Kommissionen\nWir möchten Euch herzlichst daran erinnern
 \, uns die Nominierungen für die Wahlen\n\n 	Präsidium des Landesparteit
 ages\n 	Landesvorstand\n 	Landesrevisoren\n 	Landesschiedskommission (Vors
 itz\, Stellvertreter*innen\, Beisitzer*innen)\n 	Antragskommission (pro Kr
 eis 1 Vertreter*in)\n 	Mandatsprüfungskommission (pro Kreis 1 Vertreter*i
 n)\n 	Wahl- und Zählkommission (pro Kreis 2 Vertreter*innen\, kleine Krei
 se je 1)\n 	Delegierten für den Parteikonvent (insgesamt sind für Berlin
  8 Delegierte zu wählen)\n\nzu übermitteln an landesparteitag.berlin@spd
 .de.\nAnträge\nDer Antragsschluss ist satzungsgemäß am Samstag\, 28. Ap
 ril 2018. Bitte sendet die Anträge an\nlandesparteitag.berlin@spd.de.\n\n
 Die Anträge werden unter diesem Link veröffentlicht:\n\nAnträge Landesp
 arteitag 01./02. Juni 2018\nOrganisationspolitische Anträge\nDiverse Antr
 äge wurden vom Landesparteitag 11.11.2017 an die Organisationspolitische 
 Kommission überwiesen. Der Landesvorstand hat infolge dessen die Kommissi
 onen „Organisationspolitische Kommission“ und „Kommission Politische
  Handlungsfelder“ eingesetzt\, die ihre Arbeit bereits aufgenommen hat. 
 Bitte überweist die organisationspolitischen Anträge sowohl auf der Abte
 ilungs- als auch auf der Kreisebene direkt an die Organisationspolitische 
 Kommission\, damit kein Zeitverlust entsteht\, wenn diese Anträge ggf. du
 rch den Parteitag überwiesen werden.\n\nInfos unter: https://parteitag.sp
 d-berlin.de/\n\n
LOCATION:Andel's Berlin\, Landsberger Allee 106\, 10369 Berlin\, Berlin\, D
 eutschland
X-APPLE-STRUCTURED-LOCATION;VALUE=URI;X-ADDRESS=Landsberger Allee 106\, 103
 69 Berlin\, Berlin\, Deutschland;X-APPLE-RADIUS=100;X-TITLE=Andel's Berlin
 :geo:0,0
END:VEVENT
BEGIN:VEVENT
UID:11@spd-berlinermitte.de
DTSTART:20180602T100000Z
DTEND:20180602T200000Z
DTSTAMP:20180108T123033Z
URL:https://spd-berlinermitte.de/Termine/spd-landesparteitag/
SUMMARY:SPD Landesparteitag
DESCRIPTION:Am Samstag\, den 2. Juni 2018 findet der Landesparteitag der Be
 rliner SPD mit Wahlen zum Vorstand statt.\n\nNähere Infos in Kürze.
END:VEVENT
BEGIN:VEVENT
UID:13@spd-berlinermitte.de
DTSTART:20180912T183000Z
DTEND:20180912T203000Z
DTSTAMP:20180628T132630Z
URL:https://spd-berlinermitte.de/Termine/die-berliner-mitte-laedt-ein-einz
 elhandel-und-ladenschluss/
SUMMARY:Die Berliner Mitte lädt ein: "Einzelhandel und Ladenschluss"
DESCRIPTION:Terminankündigung\nAm Mittwoch\, den 12. September 2018 um 18:
 30 Uhr findet eine Veranstaltung der Berliner Mitte im Berliner Abgeordnet
 enhaus zum Thema „Einzelhandel und Ladenschluss“ statt – unter ander
 em mit Herrn Nils Busch-Petersen\, Hauptgeschäftsführer des Handelsverba
 nd Berlin-Brandenburg e.V. (HBB) sowie einem Kirchenvertreter.
LOCATION:Abgeordnetenhaus von Berlin\, Niederkirchnerstraße 5\, 10117 Berl
 in\, Deutschland
X-APPLE-STRUCTURED-LOCATION;VALUE=URI;X-ADDRESS=Niederkirchnerstraße 5\, 1
 0117 Berlin\, Deutschland;X-APPLE-RADIUS=100;X-TITLE=Abgeordnetenhaus von 
 Berlin:geo:0,0
END:VEVENT
BEGIN:VEVENT
UID:14@spd-berlinermitte.de
DTSTART:20181106T190000Z
DTEND:20181106T210000Z
DTSTAMP:20181024T045638Z
URL:https://spd-berlinermitte.de/Termine/462/
SUMMARY:Veranstaltung: Ladenschluss - verkaufsoffen
DESCRIPTION:Liebe Genossinnen\, liebe Genossen\, liebe Freunde der BERLINER
  MITTE in der Berliner SPD\,\n\nwir laden Euch herzlich ein zu unserem Dis
 kussionsabend über: „Ladenschluss – verkaufsoffen - Sonntagsöffnung
 ? Spätis!"\nDienstag\, 06. November 2018 um 19:00 Uhr im Abgeordnetenhaus
  von Berlin im Raum 376\, Niederkirchnerstr. 5\, 10117 Berlin\nFür Geträ
 nke und knusprige Brezeln ist gesorgt.\nWeitere Informationen in der Einla
 dung: Einladung: "Ladenschluss - verkaufsoffen" 2018\n\nMit freundlichen G
 rüßen\nJörg Stroedter\, MdA\nIris Spranger\, MdA\nRobert Schaddach\, Md
 A\nTorsten Hofer\, MdA\nKarin Halsch\, MdA\nJoschka Langenbrinck\, MdA
LOCATION:Abgeordnetenhaus von Berlin\, Niederkirchnerstraße 5\, 10117 Berl
 in\, Deutschland
X-APPLE-STRUCTURED-LOCATION;VALUE=URI;X-ADDRESS=Niederkirchnerstraße 5\, 1
 0117 Berlin\, Deutschland;X-APPLE-RADIUS=100;X-TITLE=Abgeordnetenhaus von 
 Berlin:geo:0,0
END:VEVENT
END:VCALENDAR